BEGIN:VCALENDAR
VERSION:2.0
PRODID:-//DIE LINKE.LISTE - ECPv4.9.12//NONSGML v1.0//EN
CALSCALE:GREGORIAN
METHOD:PUBLISH
X-WR-CALNAME:DIE LINKE.LISTE
X-ORIGINAL-URL:https://www.linkeliste-ob.de
X-WR-CALDESC:Veranstaltungen im DIE LINKE.LISTE
BEGIN:VTIMEZONE
TZID:Europe/Berlin
BEGIN:DAYLIGHT
TZOFFSETFROM:+0100
TZOFFSETTO:+0200
TZNAME:CEST
DTSTART:20250330T010000
END:DAYLIGHT
BEGIN:STANDARD
TZOFFSETFROM:+0200
TZOFFSETTO:+0100
TZNAME:CET
DTSTART:20251026T010000
END:STANDARD
END:VTIMEZONE
BEGIN:VEVENT
DTSTART;TZID=Europe/Berlin:20250802T090000
DTEND;TZID=Europe/Berlin:20250802T120000
DTSTAMP:20260419T130108
CREATED:20250729T090816Z
LAST-MODIFIED:20250729T090816Z
UID:5888-1754125200-1754136000@www.linkeliste-ob.de
SUMMARY:Infostand Alt-Oberhausen
DESCRIPTION:KOMMUNALWAHL 2025 \nSie haben Fragen oder Anregungen?  Kommen Sie vorbei! \n
URL:https://www.linkeliste-ob.de/event/infostand-alt-oberhausen/2025-08-02/
LOCATION:Marktstr. / Elsässerstr.\, Oberhausen\, 46045\, Deutschland
END:VEVENT
END:VCALENDAR